BEGIN:VCALENDAR
VERSION:2.0
PRODID:-//Auction-All - ECPv6.0.2//NONSGML v1.0//EN
CALSCALE:GREGORIAN
METHOD:PUBLISH
X-ORIGINAL-URL:https://auction-all.com
X-WR-CALDESC:Events for Auction-All
REFRESH-INTERVAL;VALUE=DURATION:PT1H
X-Robots-Tag:noindex
X-PUBLISHED-TTL:PT1H
BEGIN:VTIMEZONE
TZID:Europe/Helsinki
BEGIN:DAYLIGHT
TZOFFSETFROM:+0200
TZOFFSETTO:+0300
TZNAME:EEST
DTSTART:20260329T010000
END:DAYLIGHT
BEGIN:STANDARD
TZOFFSETFROM:+0300
TZOFFSETTO:+0200
TZNAME:EET
DTSTART:20261025T010000
END:STANDARD
END:VTIMEZONE
BEGIN:VEVENT
DTSTART;TZID=Europe/Helsinki:20260415T120000
DTEND;TZID=Europe/Helsinki:20260415T140000
DTSTAMP:20260421T002714
CREATED:20260316T110622Z
LAST-MODIFIED:20260413T094320Z
UID:21460-1776254400-1776261600@auction-all.com
SUMMARY:ABSA HelpUSell: On-Site Auction - Double Storey 3 Bed 4 Bath Family Home with Pool in Pretoria!
DESCRIPTION:On-Site Auction Details: \nStarting Bid: R 2 600 000-00 \nAuction Date: Wednesday\, 15 April 2026 at 14h00 \nViewing: Wednesday\, 15 April 2026 from 13h00 to 14h00 \n  \nThis beautiful double-storey family home in the sought-after suburb of Rietondale\, Pretoria\, offers comfortable modern living with generous indoor and outdoor entertainment spaces. \nThe home features three spacious bedrooms and three modern bathrooms\, as well as a guest toilet for added convenience. \nThe main bedroom includes a walk-in cupboard\, while the rest of the home showcases elegant wooden flooring that adds warmth and character. \nThe well-designed kitchen is fitted with built-in cupboards and a gas stove\, and flows seamlessly into the dining room and living area\, creating a welcoming space ideal for family living and entertaining. A separate scullery provides additional practicality. \nOutside\, the property offers excellent entertainment features\, including a swimming pool\, outdoor braai area\, and a beautifully maintained garden\, all fully fenced for privacy and security. \nAdditional features include a double garage with additional parking space\, fibre internet availability\, and a borehole (requires flushing). \nConveniently located near the Unie buildings\, as well as schools\, shopping amenities\, and major routes\, this property presents an excellent opportunity for families or investors seeking a well-located home in a desirable area. \n  \nImportant Information: \n– Seller will settle outstanding Rates and Taxes \n– Buyer to provide the required COC’s (Certificates of Compliance) \n– 10% Deposit payable on the fall of the hammer. \n– 30 Days for Guarantees. \n  \nTo participate in this Online Property Auction\, please click the button below to start the registration process. \nYou’ll first be taken to the Rules of Auction\, which must be read and signed. \nAfter signing\, you’ll be asked to upload the required documents. (ID Copy) \nOnce submitted\, use the PayFast link to pay the R250-00 non-refundable admin fee. \nOnce your documents are submitted and payment is confirmed\, you can create a username and password to log in and place bids. \nRegister to Bid
URL:https://auction-all.com/event/absa-helpusell-on-site-auction-double-storey-3-bed-4-bath-family-home-with-pool-in-pretoria/
ATTACH;FMTTYPE=image/jpeg:https://auction-all.com/wp-content/uploads/2026/03/WhatsApp-Image-2026-03-10-at-09.54.53-2.jpeg
END:VEVENT
BEGIN:VEVENT
DTSTART;TZID=Europe/Helsinki:20260415T120000
DTEND;TZID=Europe/Helsinki:20260415T140000
DTSTAMP:20260421T002714
CREATED:20260325T101231Z
LAST-MODIFIED:20260413T133356Z
UID:21692-1776254400-1776261600@auction-all.com
SUMMARY:Liquidation: Online Auction - Expansive Family Home with Landscaped Garden\, Swimming Pool and Top Security with Adjacent Vacant Stand in Moreleta Park\, Pretoria!
DESCRIPTION:Online Auction Details: \nStarting Bid: R 2 950 000-00 \nAuction Date: Wednesday\, 15 April 2026 from 12h00 to 14h00 \nViewing: Contact Agent (No Access Provided) \n  \nStep into an exceptional lifestyle opportunity in the sought-after suburb of Moreleta Park. \nThis spacious family home\, set on a generous erf\, includes the adjacent vacant stand that forms part of the same notarial tie and shared Title Deed — offering seamless expansion potential or added privacy in one cohesive property. \nThe residence features 4 bedrooms and 3.5 bathrooms\, with the main suite enjoying its own en-suite. \nBuilt-in cupboards provide ample storage throughout\, while the open-plan living\, dining\, and kitchen area flows effortlessly onto a covered patio overlooking the sparkling swimming pool and heart-shaped koi pond. \nExpansive landscaped gardens create a serene outdoor retreat\, complemented by a convenient flatlet\, water tank\, solar panels\, and secure multi-vehicle parking for up to four cars. \nThis property delivers a practical and low-maintenance lifestyle with modern touches like solar energy and partial fencing\, ideal for comfortable family living or effortless entertaining amid open green views. \nThe home and its adjacent vacant stand enjoy a prime location in Moreleta Park\, close to excellent schools\, shopping centres\, and major transport routes — making it perfectly suited for growing families\, those seeking a spacious lifestyle\, or investors looking for strong long-term appeal. \nA well-balanced property combining indoor comfort with generous outdoor space and expansion options in a secure and popular area. \nA very attractive opportunity to acquire this complete package at an excellent starting price. \n  \nImportant Information: \n– The property is sold Voetstoots “as is” \n– 14-day Acceptance Period applies \n– Occupation will take place on Acceptance of the offer. \n– 30-day Guarantee delivery period applies. \n– 5% Buyer’s Commission plus VAT is payable. \n– 10% Deposit is payable and is separate from the Buyer’s Commission. \n– Buyer is responsible for obtaining and supplying all required Certificates of Compliance. \n– Seller will be liable for all outstanding rates and taxes up to date of transfer. \n  \nVacant Occupation not Guaranteed! \n  \nMaster’s Ref: MD000303/2024 \n  \nTo participate in this Online Property Auction\, please click the button below to start the registration process. \nYou’ll first be taken to the Rules of Auction\, which must be read and signed. \nAfter signing\, you’ll be asked to upload the required documents. (ID Copy) \nOnce submitted\, use the PayFast link to pay the R250-00 non-refundable admin fee. \nOnce your documents are submitted and payment is confirmed\, you can create a username and password to log in and place bids. \nRegister to Bid \nMaster’s Reference: MD000303/2024
URL:https://auction-all.com/event/liquidation-online-auction-expansive-family-home-with-landscaped-garden-swimming-pool-and-top-security-in-moreleta-park-pretoria/
ATTACH;FMTTYPE=image/jpeg:https://auction-all.com/wp-content/uploads/2026/03/DJI_0751-scaled.jpg
END:VEVENT
END:VCALENDAR