BEGIN:VCALENDAR
VERSION:2.0
PRODID:-//Auction-All - ECPv6.0.2//NONSGML v1.0//EN
CALSCALE:GREGORIAN
METHOD:PUBLISH
X-ORIGINAL-URL:https://auction-all.com
X-WR-CALDESC:Events for Auction-All
REFRESH-INTERVAL;VALUE=DURATION:PT1H
X-Robots-Tag:noindex
X-PUBLISHED-TTL:PT1H
BEGIN:VTIMEZONE
TZID:Europe/Helsinki
BEGIN:DAYLIGHT
TZOFFSETFROM:+0200
TZOFFSETTO:+0300
TZNAME:EEST
DTSTART:20260329T010000
END:DAYLIGHT
BEGIN:STANDARD
TZOFFSETFROM:+0300
TZOFFSETTO:+0200
TZNAME:EET
DTSTART:20261025T010000
END:STANDARD
END:VTIMEZONE
BEGIN:VEVENT
DTSTART;TZID=Europe/Helsinki:20260421T120000
DTEND;TZID=Europe/Helsinki:20260421T140000
DTSTAMP:20260421T001725
CREATED:20260323T094140Z
LAST-MODIFIED:20260413T134548Z
UID:21558-1776772800-1776780000@auction-all.com
SUMMARY:ABSA HelpUSell: Online Auction - Convenient 3 Bed 1 Bath Apartment in Yeoville\, Johannesburg!
DESCRIPTION:Online Auction Details: \nStarting Bid: R 300 000-00 \nAuction Date: Tuesday\, 21 April 2026 from 12h00 to 14h00 \nViewing: By Appointment \n  \nSet in the well-established Xanadu complex in vibrant Yeoville\, this spacious sectional title apartment offers an attractive opportunity for comfortable living in a popular Johannesburg suburb\, complete with private balcony access and abundant natural light. \nThe unit comprises three generously sized bedrooms fitted with built-in cupboards\, two neatly appointed bathrooms equipped with both a bath and shower\, and a large open-plan lounge and dining area that flows seamlessly into a compact yet functional kitchen and onto the private balcony with lovely views. \nThis apartment offers a practical and low-maintenance lifestyle\, with its impressive size providing more room than many comparable units in the area. \nThe complex enjoys a prime location close to schools\, shopping centres\, and main transport routes\, making it suitable for first-time buyers\, young professionals\, small families\, or investors seeking solid rental appeal. \nA very attractive opportunity to acquire this well-balanced property combining indoor comfort with balcony living and excellent space in a secure and sought-after complex. \n  \nImportant Information: \n– Seller will settle outstanding Rates and Taxes \n– Buyer to provide the required COC’s (Certificates of Compliance) \n– 10% Deposit payable on the fall of the hammer. \n– 30 Days for Guarantees. \n  \nTo participate in this Online Property Auction\, please click the button below to start the registration process. \nYou’ll first be taken to the Rules of Auction\, which must be read and signed. \nAfter signing\, you’ll be asked to upload the required documents. (ID Copy) \nOnce submitted\, use the PayFast link to pay the R250-00 non-refundable admin fee. \nOnce your documents are submitted and payment is confirmed\, you can create a username and password to log in and place bids. \nRegister to Bid
URL:https://auction-all.com/event/absa-helpusell-online-auction-convenient-3-bed-1-bath-apartment-in-yeoville-johannesburg/
ATTACH;FMTTYPE=image/png:https://auction-all.com/wp-content/uploads/2026/03/26-SO-015.png
END:VEVENT
END:VCALENDAR