BEGIN:VCALENDAR
VERSION:2.0
PRODID:-//Auction-All - ECPv6.0.2//NONSGML v1.0//EN
CALSCALE:GREGORIAN
METHOD:PUBLISH
X-WR-CALNAME:Auction-All
X-ORIGINAL-URL:https://auction-all.com
X-WR-CALDESC:Events for Auction-All
REFRESH-INTERVAL;VALUE=DURATION:PT1H
X-Robots-Tag:noindex
X-PUBLISHED-TTL:PT1H
BEGIN:VTIMEZONE
TZID:Europe/Helsinki
BEGIN:DAYLIGHT
TZOFFSETFROM:+0200
TZOFFSETTO:+0300
TZNAME:EEST
DTSTART:20220327T010000
END:DAYLIGHT
BEGIN:STANDARD
TZOFFSETFROM:+0300
TZOFFSETTO:+0200
TZNAME:EET
DTSTART:20221030T010000
END:STANDARD
END:VTIMEZONE
BEGIN:VEVENT
DTSTART;TZID=Europe/Helsinki:20220726T090000
DTEND;TZID=Europe/Helsinki:20220726T150000
DTSTAMP:20260422T172335
CREATED:20220705T113810Z
LAST-MODIFIED:20220724T154438Z
UID:7729-1658826000-1658847600@auction-all.com
SUMMARY:Scrap Metal Auction – Jeffrey’s Bay Municipal Auction
DESCRIPTION:On-Site Municipal Auction: Scrap Metal from Jeffreys Bay Water and Electrical jard\, St Frances Water and Electrical depo\, and Humans Dorp Traffic department. \nKOUGA LOCAL MUNICIPALITY \nMunicipal Depot\, St Croix Str\, Jeffrey’s Bay \nElectrical Cables\, Motors\, Transformers\, Motors\, Scrap metal and various other items from Kouga water and electrical depo’s. \nOn-Site Auction Date: Tuesday 26 July @ 10H00 \nViewing: 25 July 09H00 – 15H00 \nPlease contact \nYolande Nel at 083 280 4728 or yolande@auction-all.com for more information. \nTiaan: 0783358134 | tiaan@auction-all.com \nMartin: 0835944194 | jp@auction-all.com \n  \nDOWNLOAD A LIST OF THE LOTS ON AUCTION  BELOW: \nLIST OF ITEMS ON AUCTION \n  \nDOWNLOAD BIDDER REGISTRATION FORM BELOW: \nBIDDER REGISTRATION FORM
URL:https://auction-all.com/event/movable-asset-auction-jeffreys-bay/
LOCATION:Municipal Depot\, St Croix Str\, Jeffrey's Bay\, South Africa
ATTACH;FMTTYPE=image/png:https://auction-all.com/wp-content/uploads/2022/07/KOUGA-MOVABLE-AUCTION-2.png
ORGANIZER;CN="Auction-All":MAILTO:info@auction-all.com
END:VEVENT
BEGIN:VEVENT
DTSTART;TZID=Europe/Helsinki:20220721T080000
DTEND;TZID=Europe/Helsinki:20220721T120000
DTSTAMP:20260422T172335
CREATED:20220704T132129Z
LAST-MODIFIED:20220704T132253Z
UID:7682-1658390400-1658404800@auction-all.com
SUMMARY:2 Bed 1 Bath Apartment in President Park\, Midrand\, Johannesburg
DESCRIPTION:Online Auction Date: Thursday\, 21 July 2022 @ 08h00 – 12h00 \nUnit 35 Rodos\, 7 Swart Drive\, President Park Ext 1\, Johannesburg \nProperty description:\n2 Bedrooms (built-in cupboards)\n1 Bathroom – toilet\, basin\, bath\nKitchen\nOpen plan dining room & lounge\nPatio\nGarden \nPlease contact our agent Annie for more information: 083 504 2997 / annie@auction-all.com
URL:https://auction-all.com/event/2-bed-1-bath-apartment-in-president-park-midrand-johannesburg/
LOCATION:ONLINE AUCTIONS\, Auction-All Website\, South Africa
ATTACH;FMTTYPE=image/png:https://auction-all.com/wp-content/uploads/2022/06/SELL-ONLY-SO-PROPERTIES-35.png
ORGANIZER;CN="Auction-All":MAILTO:info@auction-all.com
END:VEVENT
BEGIN:VEVENT
DTSTART;TZID=Europe/Helsinki:20220623T140000
DTEND;TZID=Europe/Helsinki:20220623T150000
DTSTAMP:20260422T172335
CREATED:20220606T091806Z
LAST-MODIFIED:20220606T091806Z
UID:7376-1655992800-1655996400@auction-all.com
SUMMARY:On-Site Auction: 5 Bed 6 Bath House In Hyde Park\, Gauteng
DESCRIPTION:65 Rulin Road\, Hyde Park\, Sandton\, Gauteng \nOn- Site Auction \nAuction date: Thursday\, 23 June 2022 @14h00 \nViewing date: Sunday \,19 June 14h00 – 16h00 \nStarting Bid: R 14 000 000-00 \nAn esteemed property such as this serves as an investment for life while accommodating easy living at its finest. \nFor more information\, please contact the auctioneer Martin Nel.
URL:https://auction-all.com/event/on-site-auction-5-bed-6-bath-house-in-hyde-park-gauteng/
LOCATION:65A Rulin Road\, Hyde Park\, Sandton\, 65A Rulin Road\, Hyde Park\, Sandton\, Johannesburg\, Gauteng\, South Africa
ATTACH;FMTTYPE=image/png:https://auction-all.com/wp-content/uploads/2022/05/SELL-ONLY-SO-PROPERTIES-26.png
ORGANIZER;CN="Auction-All":MAILTO:info@auction-all.com
END:VEVENT
END:VCALENDAR