BEGIN:VCALENDAR
VERSION:2.0
PRODID:-//Auction-All - ECPv6.0.2//NONSGML v1.0//EN
CALSCALE:GREGORIAN
METHOD:PUBLISH
X-WR-CALNAME:Auction-All
X-ORIGINAL-URL:https://auction-all.com
X-WR-CALDESC:Events for Auction-All
REFRESH-INTERVAL;VALUE=DURATION:PT1H
X-Robots-Tag:noindex
X-PUBLISHED-TTL:PT1H
BEGIN:VTIMEZONE
TZID:Europe/Helsinki
BEGIN:DAYLIGHT
TZOFFSETFROM:+0200
TZOFFSETTO:+0300
TZNAME:EEST
DTSTART:20260329T010000
END:DAYLIGHT
BEGIN:STANDARD
TZOFFSETFROM:+0300
TZOFFSETTO:+0200
TZNAME:EET
DTSTART:20261025T010000
END:STANDARD
END:VTIMEZONE
BEGIN:VEVENT
DTSTART;TZID=Europe/Helsinki:20260507T120000
DTEND;TZID=Europe/Helsinki:20260507T140000
DTSTAMP:20260421T033519
CREATED:20260416T082513Z
LAST-MODIFIED:20260416T082758Z
UID:22201-1778155200-1778162400@auction-all.com
SUMMARY:Online Auction - 3 Bed 2 Bath Family Home in Alberton\, Johannesburg!
DESCRIPTION:Online Auction Details: \nStarting Bid: R 600 000-00 \nAuction Date: Thursday\, 7 May from 12h00 to 14h00 \nViewing: By Appointment \n  \nThis inviting 3-bedroom family home offers a wonderful lifestyle opportunity within the secure and well-maintained Elands Rock Nature Estate in South Crest\, Alberton. \nNestled in a peaceful setting with easy access to everyday conveniences\, it presents an attractive opportunity for first-time buyers\, growing families or savvy investors seeking solid rental appeal. \nThe home comprises three bedrooms\, with two positioned on the upper level for added privacy. \nThe bedrooms are fitted with built-in cupboards\, providing ample storage\, while the neatly appointed bathrooms are functional and ready for everyday use. \nDownstairs\, the open-plan living areas create a warm and welcoming flow\, perfect for family time and entertaining. \nThe kitchen is well-equipped\, flowing seamlessly into the dining and lounge spaces. \nPractical and low-maintenance\, this property includes a convenient 2-shade carport for secure parking. \nThe estate enjoys a prime location close to major routes\, schools and local amenities\, making daily commutes effortless and enhancing its strong rental potential. \nA well-balanced family home combining indoor comfort with secure estate living and excellent accessibility in a popular Alberton neighborhood – an excellent opportunity to acquire at a very attractive starting price. \n  \nImportant Information: \n-Seller will settle outstanding Rates and Taxes \n-Buyer to provide the required COC’s (Certificates of Compliance) \n-10% Deposit payable on the fall of the hammer. \n-30 Days for Guarantees. \n  \nTo participate in this Online Property Auction\, please click the button below to start the registration process. \nYou’ll first be taken to the Rules of Auction\, which must be read and signed. \nAfter signing\, you’ll be asked to upload the required documents. (ID Copy) \nOnce submitted\, use the PayFast link to pay the R250-00 non-refundable admin fee. \nOnce your documents are submitted and payment is confirmed\, you can create a username and password to log in and place bids. \nRegister to Bid
URL:https://auction-all.com/event/online-auction-3-bed-2-bath-family-home-in-alberton-johannesburg/
ATTACH;FMTTYPE=image/jpeg:https://auction-all.com/wp-content/uploads/2026/04/WhatsApp-Image-2026-04-13-at-9.53.51-AM-1.jpeg
END:VEVENT
BEGIN:VEVENT
DTSTART;TZID=Europe/Helsinki:20260507T120000
DTEND;TZID=Europe/Helsinki:20260507T140000
DTSTAMP:20260421T033519
CREATED:20260417T095247Z
LAST-MODIFIED:20260417T140554Z
UID:22234-1778155200-1778162400@auction-all.com
SUMMARY:ABSA HelpUSell: Online Auction - Charming 3 Bed 2 Bath Family Home with 2 Bed 2 Bath Flatlet in Vrede\, Free State!
DESCRIPTION:Online Auction Details: \nStarting Bid: R 1 100 000-00 \nAuction Date: Thursday\, 7 May 2026 from 12h00 to 14h00 \nViewing: By Appointment \n  \nSituated in the peaceful town of Vrede\, surrounded by scenic rolling hills\, this versatile property presents a unique opportunity for comfortable family living or an income-generating investment. \n  \nPreviously operated as a guesthouse\, the property offers a flexible layout ideal for extended families\, rental income\, or hospitality use. \n  \nThe main house features: \n3 well-sized bedrooms (main en-suite) \n2 bathrooms \nFunctional kitchen \nDining room and spacious lounge \nDedicated office/study \nCosy fireplace for added comfort \n  \nAdding to its appeal is a fully self-contained flatlet\, offering: \n2 bedrooms (main en-suite) \n2 bathrooms \nPrivate kitchen\, lounge\, and dining area \n  \nAdditional features include garages\, three outbuildings\, and a generous stand\, providing ample space and further potential for development or storage. \n  \nThe property’s previous use as a guesthouse highlights its excellent hospitality potential\, with multiple rooms\, shared living spaces\, and a layout well-suited for accommodation purposes. \n  \nConveniently located close to schools\, shopping facilities\, places of worship\, and main routes\, this property ensures easy everyday living while maintaining a tranquil small-town atmosphere. \n  \nPlease note: \nThe property was previously used as a guesthouse. \nImages may vary from the current condition. \nViewings are essential to fully appreciate the space and potential on offer. \n  \nA well-balanced property offering space\, charm\, and exceptional versatility – perfect for families\, professionals\, or investors looking for a valuable opportunity in Vrede. \n  \nImportant Information: \n– Seller will settle outstanding Rates and Taxes \n– Buyer to provide the required COC’s (Certificates of Compliance) \n– 10% Deposit payable on the fall of the hammer. \n– 30 Days for Guarantees. \n  \nTo participate in this Online Property Auction\, please click the button below to start the registration process. \nYou’ll first be taken to the Rules of Auction\, which must be read and signed. \nAfter signing\, you’ll be asked to upload the required documents. (ID Copy) \nOnce submitted\, use the PayFast link to pay the R250-00 non-refundable admin fee. \nOnce your documents are submitted and payment is confirmed\, you can create a username and password to log in and place bids. \nRegister to Bid
URL:https://auction-all.com/event/absa-helpusell-online-auction-charming-3-bed-2-bath-family-home-with-2-bed-2-bath-flatlet-in-vrede-free-state/
ATTACH;FMTTYPE=image/png:https://auction-all.com/wp-content/uploads/2026/04/1-7.png
END:VEVENT
BEGIN:VEVENT
DTSTART;TZID=Europe/Helsinki:20260512T120000
DTEND;TZID=Europe/Helsinki:20260512T140000
DTSTAMP:20260421T033519
CREATED:20260417T104712Z
LAST-MODIFIED:20260417T104712Z
UID:22251-1778587200-1778594400@auction-all.com
SUMMARY:Deceased Estate: Online Auction - Practical 3 Bed 1.5 Bath Home with Spacious Garden in Dawkinsville\, Klerksdorp!
DESCRIPTION:Online Auction Details: \nStarting Bid: R 285 000-00 \nAuction Date: Tuesday\, 12 May 2026 from 12h00 to 14h00 \nViewing: By Appointment \n  \nThis attractive opportunity presents a practical family home in the well-established suburb of Dawkinsville\, Klerksdorp – perfectly positioned for convenient everyday living and offering excellent value in the North West market. \n  \nThe property comprises three well-proportioned bedrooms\, one and a half bathrooms\, a single garage\, and functional living areas that connect seamlessly to a practical kitchen. \n  \nThe layout is complemented by a generous backyard with mature trees\, providing plenty of space for outdoor enjoyment or future enhancements. \n  \nThis property offers a practical and low-maintenance lifestyle\, ideal for owners who appreciate simplicity combined with everyday comfort. \n  \nThis home is conveniently located near local schools like Keurhof\, everyday amenities such as Brinton Tuck-shop and Amomax Superstores\, and major transport routes\, making it easy for growing families\, first-time buyers\, and investors seeking strong rental potential in a well-serviced area. \n  \nA very attractive opportunity to secure this well-located family home at an excellent starting bid – delivering comfort\, space and outstanding value in a convenient suburb. \n  \nImportant Information: \n• 10% Deposit payable to Auction-All Trust Account immediately after auction \n• 5% Seller’s Commission plus advertising costs deductible from the deposit \n• Occupation on date of registration \n• 30-day Guarantee Delivery Period \n• Buyer to provide Certificates of Compliance \n• Seller pays outstanding rates and taxes \n• 30 Days Acceptance Period \n  \nTo participate in this Online Property Auction\, please click the button below to start the registration process. \nYou’ll first be taken to the Rules of Auction\, which must be read and signed. \nAfter signing\, you’ll be asked to upload the required documents. (ID Copy) \nOnce submitted\, use the PayFast link to pay the R250-00 non-refundable admin fee. \nOnce your documents are submitted and payment is confirmed\, you can create a username and password to log in and place bids. \nRegister to Bid
URL:https://auction-all.com/event/deceased-estate-online-auction-practical-3-bed-1-5-bath-home-with-spacious-garden-in-dawkinsville-klerksdorp/
ATTACH;FMTTYPE=image/png:https://auction-all.com/wp-content/uploads/2026/04/1-5.png
END:VEVENT
END:VCALENDAR