BEGIN:VCALENDAR
VERSION:2.0
PRODID:-//Auction-All - ECPv6.0.2//NONSGML v1.0//EN
CALSCALE:GREGORIAN
METHOD:PUBLISH
X-ORIGINAL-URL:https://auction-all.com
X-WR-CALDESC:Events for Auction-All
REFRESH-INTERVAL;VALUE=DURATION:PT1H
X-Robots-Tag:noindex
X-PUBLISHED-TTL:PT1H
BEGIN:VTIMEZONE
TZID:Europe/Helsinki
BEGIN:DAYLIGHT
TZOFFSETFROM:+0200
TZOFFSETTO:+0300
TZNAME:EEST
DTSTART:20260329T010000
END:DAYLIGHT
BEGIN:STANDARD
TZOFFSETFROM:+0300
TZOFFSETTO:+0200
TZNAME:EET
DTSTART:20261025T010000
END:STANDARD
END:VTIMEZONE
BEGIN:VEVENT
DTSTART;TZID=Europe/Helsinki:20260217T120000
DTEND;TZID=Europe/Helsinki:20260217T140000
DTSTAMP:20260421T062301
CREATED:20260126T124410Z
LAST-MODIFIED:20260126T124410Z
UID:20353-1771329600-1771336800@auction-all.com
SUMMARY:ABSA HelpUSell: Online Auction - Spacious 2 Bed\, 1.5 Bath apartment in Margate\, Kwazulu Natal!
DESCRIPTION:Online Auction Details: \nStarting Bid: R 560 000-00 \nAuction Date: Tuesday\, 17 February 2026 from 12h00 to 14h00 \nViewing: By Appointment \n  \nSpacious 2-bedroom\, 1.5-bathroom apartment ideally located in the lovely Flamboyant Complex\, offering convenient walking-distance access to all everyday amenities. \n  \nThe unit offers the following: \nAll exterior doors fitted with security gates \nAll windows fitted with burglar bars \nFully functional alarm system with panic button (to be activated by security company) \n  \nInterior Features: \n2 bedrooms\, both with roof fans \n1 bedroom with built-in cupboards \n1 bathroom (upper floor) with shower\, toilet\, and basin \nGuest toilet (lower floor) with basin \nBuilt-in air-conditioning in the main living area \nLED lighting in the main room (multicolour\, remote-controlled) \nAll windows fitted with blinds \nKitchen & Storage\, Kitchen with double sink\, Space for washing machine (water and drainage in place)\, Under-stairs storage cupboard \nOutdoor & Views: \nVerandah opening onto a private courtyard \nBalcony with beautiful natural views \nParking & Security: 1 lock-up garage\, Roadside parking available for guests \nClose to essential services: Hospital under 2 km\, Schools under 1 km\, SAPS under 1 km\, Hibiscus Mall (1 km)\, 20 m from a laundromat\, 750 m from Margate Main Beach \n  \nImportant Information: \n– Seller will settle outstanding Rates and Taxes \n– Buyer to provide the required COC’s (Certificates of Compliance) \n– 10% Deposit payable on the fall of the hammer. \n– 30 Days for Guarantees. \n  \nTo participate in this Online Property Auction\, please click the button below to start the registration process. \nYou’ll first be taken to the Rules of Auction\, which must be read and signed. \nAfter signing\, you’ll be asked to upload the required documents. (ID Copy) \nOnce submitted\, use the PayFast link to pay the R250-00 non-refundable admin fee. \nOnce your documents are submitted and payment is confirmed\, you can create a username and password to log in and place bids. \nRegister to Bid
URL:https://auction-all.com/event/absa-helpusell-online-auction-spacious-2-bed-1-5-bath-apartment-in-margate-kwazulu-natal/
ATTACH;FMTTYPE=image/png:https://auction-all.com/wp-content/uploads/2026/01/1-2.png
ORGANIZER;CN="Auction-All":MAILTO:info@auction-all.com
END:VEVENT
BEGIN:VEVENT
DTSTART;TZID=Europe/Helsinki:20260218T120000
DTEND;TZID=Europe/Helsinki:20260218T140000
DTSTAMP:20260421T062301
CREATED:20260126T100132Z
LAST-MODIFIED:20260218T065101Z
UID:20332-1771416000-1771423200@auction-all.com
SUMMARY:ABSA HelpUSell: Online Auction - Spacious 2 Bed 1 Bath Apartment in Pinetown\, KwaZulu-Natal!
DESCRIPTION:Online Auction Details: \nStarting Bid: R 585 000-00 \nAuction Date: Wednesday\, 18 February 2026 from 12h00 to 14h00 \nViewing: By Appointment \n  \nModern 2-bedroom\, 1-bathroom apartment for sale in the upmarket San Michel\, New Germany. \nThis neat first-floor apartment features a private balcony and a modern open-plan kitchen and living area\, offering a comfortable and stylish living space. \nThe unit includes one carport with additional visitor parking available. The complex offers excellent communal amenities\, including a swimming pool and braai facilities\, ideal for entertaining. \nAdditional features include a prepaid electricity meter. \nDon’t miss out on the opportunity to own this lovely apartment\, ideal for a small family\, a couple\, or as an investment. \n  \nImportant Information: \n– Seller will settle outstanding Rates and Taxes \n– Buyer to provide the required COC’s (Certificates of Compliance) \n– 10% Deposit payable on the fall of the hammer. \n– 30 Days for Guarantees. \n  \nTo participate in this Online Property Auction\, please click the button below to start the registration process. \nYou’ll first be taken to the Rules of Auction\, which must be read and signed. \nAfter signing\, you’ll be asked to upload the required documents. (ID Copy) \nOnce submitted\, use the PayFast link to pay the R250-00 non-refundable admin fee. \nOnce your documents are submitted and payment is confirmed\, you can create a username and password to log in and place bids. \nRegister to Bid
URL:https://auction-all.com/event/absa-helpusell-online-auction-spacious-2-bed-1-bath-apartment-in-pinetown-kwazulu-natal/
ATTACH;FMTTYPE=image/png:https://auction-all.com/wp-content/uploads/2026/01/Screenshot-2026-02-16-091553.png
ORGANIZER;CN="Auction-All":MAILTO:info@auction-all.com
END:VEVENT
BEGIN:VEVENT
DTSTART;TZID=Europe/Helsinki:20260219T120000
DTEND;TZID=Europe/Helsinki:20260219T140000
DTSTAMP:20260421T062301
CREATED:20260211T115045Z
LAST-MODIFIED:20260211T115045Z
UID:20491-1771502400-1771509600@auction-all.com
SUMMARY:ABSA HelpUSell : Online Auction - Neat 2 Bed 1 Bath Apartment in East London\, Eastern Cape!
DESCRIPTION:Online Auction Details \nStarting Bid: R 735 000-00 \nAuction Date: Thursday\, 19 February 2026 from 12h00 to 14h00 \nViewing: By Appointment \n  \nThis neat and well-maintained 2-bedroom apartment is located in the popular Marina Hills area of East London\, offering comfortable\, low-maintenance living in a secure environment. \nThe apartment features two well-sized bedrooms\, a functional layout\, and neat finishes throughout. \nThe living area is welcoming and practical\, flowing seamlessly into the rest of the home\, making it ideal for everyday living or as an investment property. \nSituated in a neat and well-managed complex\, residents can enjoy access to a communal swimming pool\, perfect for relaxing or entertaining during the warmer months. \nThe complex offers a peaceful atmosphere while remaining conveniently located. \nThe property is close to all amenities\, including shopping centres\, schools\, medical facilities\, and major transport routes\, ensuring ease of access and convenience. \nAn excellent opportunity for first-time buyers\, small families\, or investors seeking a well-located apartment in East London. \n  \nImportant Information: \n– Seller will settle outstanding Rates and Taxes \n– Buyer to provide the required COC’s (Certificates of Compliance) \n– 10% Deposit payable on the fall of the hammer. \n– 30 Days for Guarantees. \n\n\n  \nTo participate in this Online Property Auction\, please click the button below to start the registration process. \nYou’ll first be taken to the Rules of Auction\, which must be read and signed. \nAfter signing\, you’ll be asked to upload the required documents. (ID Copy) \nOnce submitted\, use the PayFast link to pay the R250-00 non-refundable admin fee. \nOnce your documents are submitted and payment is confirmed\, you can create a username and password to log in and place bids. \nRegister to Bid
URL:https://auction-all.com/event/absa-helpusell-online-auction-neat-2-bed-1-bath-apartment-in-east-london-eastern-cape/
ATTACH;FMTTYPE=image/jpeg:https://auction-all.com/wp-content/uploads/2026/02/WhatsApp-Image-2026-02-11-at-1.34.41-PM.jpeg
END:VEVENT
END:VCALENDAR