BEGIN:VCALENDAR
VERSION:2.0
PRODID:-//Auction-All - ECPv6.0.2//NONSGML v1.0//EN
CALSCALE:GREGORIAN
METHOD:PUBLISH
X-ORIGINAL-URL:https://auction-all.com
X-WR-CALDESC:Events for Auction-All
REFRESH-INTERVAL;VALUE=DURATION:PT1H
X-Robots-Tag:noindex
X-PUBLISHED-TTL:PT1H
BEGIN:VTIMEZONE
TZID:Europe/Helsinki
BEGIN:DAYLIGHT
TZOFFSETFROM:+0200
TZOFFSETTO:+0300
TZNAME:EEST
DTSTART:20260329T010000
END:DAYLIGHT
BEGIN:STANDARD
TZOFFSETFROM:+0300
TZOFFSETTO:+0200
TZNAME:EET
DTSTART:20261025T010000
END:STANDARD
END:VTIMEZONE
BEGIN:VEVENT
DTSTART;TZID=Europe/Helsinki:20260303T120000
DTEND;TZID=Europe/Helsinki:20260303T140000
DTSTAMP:20260421T033422
CREATED:20260211T132547Z
LAST-MODIFIED:20260211T132547Z
UID:20617-1772539200-1772546400@auction-all.com
SUMMARY:ABSA HelpUSell: Modern 1 Bed 1 Bath Apartment in Iconic Main Street Life –Maboneng\, Johannesburg!
DESCRIPTION:Online Auction Details: \nStarting Bid: R 255 000-00 \nAuction Date: Thursday\, 3 March 2026 from 12h00 to 14h00 \nViewing: By Appointment \n  \nDiscover urban sophistication in this stylish studio apartment\, located in the renowned Main Street Life building — one of Johannesburg’s most celebrated lifestyle destinations in the vibrant Maboneng Precinct. \nMain Street Life captures the essence of modern city living with a creative twist. \nOriginally an industrial warehouse\, the building has been masterfully converted into a mixed-use development that blends art\, culture\, and design. \nResidents enjoy access to a rooftop terrace with breathtaking city views\, an on-site restaurant and bar\, secure parking\, and 24-hour security — offering both comfort and peace of mind. \nThis open-plan studio is perfect for those who appreciate minimalist\, contemporary living. \nThe space features industrial-inspired finishes\, high ceilings\, and large windows that flood the apartment with natural light. \nThe compact yet well-designed layout includes a modern kitchen\, living area\, and sleeping space that flow seamlessly together\, creating an airy and functional environment. \nA sleek bathroom completes this lock-up-and-go home — ideal for a young professional\, student\, or investor. \nSituated in the heart of Maboneng\, Main Street Life puts you right in the center of Johannesburg’s most creative neighbourhood. \nStep outside your door and explore art galleries\, design studios\, coffee shops\, restaurants\, markets\, and The Bioscope independent cinema — all within walking distance. \nThe precinct\, meaning “Place of Light”\, is celebrated for its lively atmosphere\, artistic energy\, and strong sense of community. \nThis apartment offers more than just a place to live — it’s an opportunity to be part of Johannesburg’s urban renaissance. \nWhether you’re looking for a smart investment or a chic city pad\, Main Street Life is where creativity and convenience come together. \n  \nImportant Information: \n– Seller will settle outstanding Rates and Taxes \n– Buyer to provide the required COC’s (Certificates of Compliance) \n– 10% Deposit payable on acceptance of the offer. \n– 30 Days for Guarantees. \n  \nTo participate in this Online Property Auction\, please click the button below to start the registration process. \nYou’ll first be taken to the Rules of Auction\, which must be read and signed. \nAfter signing\, you’ll be asked to upload the required documents. (ID Copy) \nOnce submitted\, use the PayFast link to pay the R250-00 non-refundable admin fee. \nOnce your documents are submitted and payment is confirmed\, you can create a username and password to log in and place bids. \nRegister to Bid
URL:https://auction-all.com/event/absa-helpusell-modern-1-bed-1-bath-apartment-in-iconic-main-street-life-maboneng-johannesburg/
ATTACH;FMTTYPE=image/png:https://auction-all.com/wp-content/uploads/2026/02/1-4.png
END:VEVENT
BEGIN:VEVENT
DTSTART;TZID=Europe/Helsinki:20260303T120000
DTEND;TZID=Europe/Helsinki:20260303T140000
DTSTAMP:20260421T033422
CREATED:20260211T133650Z
LAST-MODIFIED:20260211T133650Z
UID:20635-1772539200-1772546400@auction-all.com
SUMMARY:ABSA HelpUSell: Online Auction - Spacious 2 Bed 1 Bath apartment in Pugin Court\, Ripley Terrace Durban!
DESCRIPTION:Online Auction Details: \nStarting Bid: R 500 000 \nAuction Date: Tuesday\, 3 March 2026 from 12h00 to 14h00 \nViewing: By Appointment \n  \nSpacious 2-Bedroom Apartment – Prime Location \nThis well-positioned 2-bedroom\, 1-bathroom apartment is located on the 7th floor and perfectly situated close to a wide range of amenities. \nThe apartment offers a very spacious living area\, easily accommodating a dining space\, ideal for comfortable living and entertaining. \nThe open-plan kitchen enhances the home’s flow\, creating a bright\, airy feel throughout the living area. \nConveniently located near popular entertainment and leisure spots\, including South Beach\, Addington Beach\, and uShaka. \nThe property is also close to the ER Medical Centre and a nearby police station\, offering added peace of mind. \nAn excellent opportunity for investors or a small family—don’t miss out on this fantastic buy. \n  \nImportant Information: \n– Seller will settle outstanding Rates and Taxes \n– Buyer to provide the required COC’s (Certificates of Compliance) \n– 10% Deposit payable on the fall of the hammer. \n– 30 Days for Guarantees. \n  \nTo participate in this Online Property Auction\, please click the button below to start the registration process. \nYou’ll first be taken to the Rules of Auction\, which must be read and signed. \nAfter signing\, you’ll be asked to upload the required documents. (ID Copy) \nOnce submitted\, use the PayFast link to pay the R250-00 non-refundable admin fee. \nOnce your documents are submitted and payment is confirmed\, you can create a username and password to log in and place bids. \nRegister to Bid
URL:https://auction-all.com/event/absa-helpusell-online-auction-spacious-2-bed-1-bath-apartment-in-pugin-court-ripley-terrace-durban/
ATTACH;FMTTYPE=image/jpeg:https://auction-all.com/wp-content/uploads/2026/02/683b67af-00ca-4574-8cdc-9cb643874c74.jpg
END:VEVENT
BEGIN:VEVENT
DTSTART;TZID=Europe/Helsinki:20260303T120000
DTEND;TZID=Europe/Helsinki:20260303T140000
DTSTAMP:20260421T033422
CREATED:20260213T133021Z
LAST-MODIFIED:20260213T133021Z
UID:20835-1772539200-1772546400@auction-all.com
SUMMARY:Deceased Estate: Modern 1 Bedroom Second Floor Apartment with Private Balcony - Airbnb Friendly!
DESCRIPTION:Online Auction Details: \nStarting Bid: R 520 000-00 \nAuction Date: Thursday\, 3 March 2026 from 12h00 to 14h00 \nViewing: By Appointment \n  \nSituated in the sought-after Heights Estate in Halfway Gardens\, this well-positioned second-floor apartment offers comfortable and modern living\, ideal for investors\, first-time buyers\, or those looking for short-term rental opportunities. \nThe unit features one well-sized bedroom and one bathroom\, complemented by an open-plan kitchen and lounge area that creates a practical and inviting living space. \nThe living area opens onto a private balcony\, providing the perfect spot to relax. \nThe apartment is Airbnb friendly\, offering excellent potential for rental income or flexible accommodation options. \nThe sectional title unit measures approximately 44m²\, making it a low-maintenance and convenient lock-up-and-go property. \nThe estate is well located within close proximity to shopping centers\, medical facilities\, schools\, and major transport routes\, ensuring easy access to everyday amenities. \nWhether you are looking to expand your investment portfolio or secure a modern apartment in a popular area\, this property offers excellent value and versatility. \n  \nImportant Information: \n– The Seller will settle all outstanding Rates and Taxes. \n– A 6% Seller’s Commission applies. \n– The Seller will provide all required Certificates of Compliance (COCs). \n– A 10% Deposit is payable on the fall of the hammer. \n– The offer is subject to a 30-day Acceptance period. \n  \nTo participate in this Online Property Auction\, please click the button below to start the registration process. \nYou’ll first be taken to the Rules of Auction\, which must be read and signed. \nAfter signing\, you’ll be asked to upload the required documents. (ID Copy) \nOnce submitted\, use the PayFast link to pay the R250-00 non-refundable admin fee. \nOnce your documents are submitted and payment is confirmed\, you can create a username and password to log in and place bids. \nRegister to Bid
URL:https://auction-all.com/event/deceased-estate-modern-1-bedroom-second-floor-apartment-with-private-balcony-airbnb-friendly/
ATTACH;FMTTYPE=image/jpeg:https://auction-all.com/wp-content/uploads/2026/02/WhatsApp-Image-2026-02-03-at-10.40.32.jpeg
END:VEVENT
BEGIN:VEVENT
DTSTART;TZID=Europe/Helsinki:20260303T120000
DTEND;TZID=Europe/Helsinki:20260303T140000
DTSTAMP:20260421T033422
CREATED:20260213T133915Z
LAST-MODIFIED:20260216T085746Z
UID:20867-1772539200-1772546400@auction-all.com
SUMMARY:Deceased Estate: Airbnb Friendly 1 Bed Ground Floor Apartment in The Heights Estate\, Halfway Gardens
DESCRIPTION:Online Auction Details: \nStarting Bid: R 450 000-00 \nAuction Date: Tuesday\, 3 March 2026 from 12h00 to 14h00 \nViewing: By Appointment \n  \nThis well-positioned ground floor 1-bedroom\, 1-bathroom apartment forms part of the sought-after Heights Estate in Halfway Gardens\, offering secure and convenient lifestyle living with excellent investment potential. \nThe unit features a comfortable bedroom with built-in cupboards and a neatly appointed bathroom. \nThe open-plan kitchen and lounge area creates a modern and functional living space\, designed for easy everyday living and entertaining. \nSituated on the ground floor\, the apartment offers effortless accessibility and added convenience\, making it ideal for a wide range of buyers including first-time homeowners\, young professionals\, or investors. \nThe property is Airbnb friendly\, presenting an attractive opportunity for short-term rental income or flexible accommodation options. \nThe unit measures approximately 44m²\, offering a low-maintenance\, lock-up-and-go lifestyle. \nThe estate is conveniently located close to shopping centers\, medical facilities\, schools\, and major transport routes\, ensuring easy access to essential amenities. \nThis property presents an excellent opportunity to acquire a versatile apartment offering strong rental appeal and long-term value. \n  \nImportant Information: \n– The Seller will settle all outstanding Rates and Taxes. \n– A 6% Seller’s Commission applies. \n– The Seller will provide all required Certificates of Compliance (COCs). \n– A 10% Deposit is payable on the fall of the hammer. \n– The offer is subject to a 30-day Acceptance period. \n  \nTo participate in this Online Property Auction\, please click the button below to start the registration process. \nYou’ll first be taken to the Rules of Auction\, which must be read and signed. \nAfter signing\, you’ll be asked to upload the required documents. (ID Copy) \nOnce submitted\, use the PayFast link to pay the R250-00 non-refundable admin fee. \nOnce your documents are submitted and payment is confirmed\, you can create a username and password to log in and place bids. \nRegister to Bid
URL:https://auction-all.com/event/deceased-estate-airbnb-friendly-1-bed-ground-floor-apartment-in-the-heights-estate-halfway-gardens/
ATTACH;FMTTYPE=image/jpeg:https://auction-all.com/wp-content/uploads/2026/02/IMG_8120-scaled.jpg
END:VEVENT
BEGIN:VEVENT
DTSTART;TZID=Europe/Helsinki:20260305T120000
DTEND;TZID=Europe/Helsinki:20260305T140000
DTSTAMP:20260421T033422
CREATED:20260212T064905Z
LAST-MODIFIED:20260226T122127Z
UID:20648-1772712000-1772719200@auction-all.com
SUMMARY:ABSA HelpUSell: Modern First-Floor Apartment in the Heart of South Hills\, Johannesburg
DESCRIPTION:Online Auction Details: \nStarting Bid: R 380 000-00 \nAuction Date: Thursday\, 5 March 2026 from 12h00 to 14h00 \nViewing: By Appointment \n  \nExperience comfortable\, contemporary living in this well-maintained first-floor apartment\, perfectly located in the ever-growing South Hills suburb. \nDesigned for easy living\, this modern home is ideal for first-time buyers\, young professionals\, small families\, or investors seeking a well-positioned property with strong rental appeal. \nThe apartment offers two spacious bedrooms with built-in cupboards\, providing ample storage and a light\, airy feel throughout. \nThe bathroom features a clean and modern design with a bath\, perfect for relaxing after a long day. \nThe compact kitchen is thoughtfully designed to maximize space and functionality. \nIt features stylish granite countertops that offer both durability and a touch of sophistication. \nThe open-plan layout connects the kitchen to the living area\, creating a warm and inviting space for entertaining or relaxing. \nLarge windows fill the apartment with natural light\, enhancing its bright and welcoming atmosphere. \nThe complex itself is secure and well-managed\, with controlled access and maintained common areas\, ensuring peace of mind for residents. \nIts first-floor position adds privacy while still offering easy access to parking and shared facilities. \nConveniently located near major transport routes\, shopping centers\, and schools\, this apartment provides an excellent balance between urban accessibility and comfortable living. \nSouth Hills is a developing area that continues to attract homeowners and investors alike\, thanks to its proximity to Johannesburg’s city center and growing community infrastructure. \nIf you’re looking for a stylish\, affordable home or a smart investment in a well-connected location\, this modern first-floor apartment in South Hills is an opportunity not to be missed! \n  \nImportant Information: \n– Seller will settle outstanding Rates and Taxes \n– Buyer to provide the required COC’s (Certificates of Compliance) \n– 10% Deposit payable on the fall of the hammer. \n– 30 Days for Guarantees. \n\n\n  \nTo participate in this Online Property Auction\, please click the button below to start the registration process. \nYou’ll first be taken to the Rules of Auction\, which must be read and signed. \nAfter signing\, you’ll be asked to upload the required documents. (ID Copy) \nOnce submitted\, use the PayFast link to pay the R250-00 non-refundable admin fee. \nOnce your documents are submitted and payment is confirmed\, you can create a username and password to log in and place bids. \nRegister to Bid
URL:https://auction-all.com/event/absa-helpusell-modern-first-floor-apartment-in-the-heart-of-south-hills-johannesburg/
ATTACH;FMTTYPE=image/png:https://auction-all.com/wp-content/uploads/2026/02/1-5.png
END:VEVENT
BEGIN:VEVENT
DTSTART;TZID=Europe/Helsinki:20260305T120000
DTEND;TZID=Europe/Helsinki:20260305T140000
DTSTAMP:20260421T033422
CREATED:20260213T055919Z
LAST-MODIFIED:20260213T055919Z
UID:20720-1772712000-1772719200@auction-all.com
SUMMARY:ABSA HelpUSell: 2-Bedroom Corner Unit in Florida\, Johannesburg\, going on Auction
DESCRIPTION:Online Auction Details \nStarting Bid: R 360 000-00 \nAuction Date: Thursday\, 5 March 2026 from 12h00 to 14h00 \nViewing: By Appointment \n  \nNestled in the leafy\, well-established suburb of Florida\, Johannesburg\, this bright 2-bedroom\, 1-bathroom ground-floor corner unit offers hassle-free\, single-level living in a secure complex. \nPerfect for first-time buyers\, couples\, professionals\, or anyone seeking affordable convenience close to Roodepoort and easy Joburg access. \nThe sought-after corner position brings in abundant natural light through windows on two sides\, making the open-plan living area feel spacious\, airy\, and welcoming. \nBoth bedrooms feature built-in cupboards for practical storage\, and the clean family bathroom includes a full bath\, separate shower\, basin\, and toilet—ideal for everyday comfort. \nEnjoy your own small private backyard—perfect for a bit of gardening\, sunny morning coffees\, or simply soaking up some fresh air in your own quiet space. \nParking is effortless with a carport for two cars\, ensuring you always have a spot right at your door. \nThis move-in-ready unit delivers simple\, comfortable sectional-title living—lock up and go with peace of mind. \nA fantastic opportunity in a popular\, convenient area! \n  \nImportant Information: \n– Seller will settle outstanding Rates and Taxes \n– Buyer to provide the required COC’s (Certificates of Compliance) \n– 10% Deposit payable on the fall of the hammer. \n– 30 Days for Guarantees. \n  \nTo participate in this Online Property Auction\, please click the button below to start the registration process. \nYou’ll first be taken to the Rules of Auction\, which must be read and signed. \nAfter signing\, you’ll be asked to upload the required documents. (ID Copy) \nOnce submitted\, use the PayFast link to pay the R250-00 non-refundable admin fee. \nOnce your documents are submitted and payment is confirmed\, you can create a username and password to log in and place bids. \nRegister to Bid
URL:https://auction-all.com/event/absa-helpusell-2-bedroom-corner-unit-in-florida-johannesburg-going-on-auction/
ATTACH;FMTTYPE=image/png:https://auction-all.com/wp-content/uploads/2026/02/Screenshot-2026-02-02-224256.png
END:VEVENT
END:VCALENDAR