BEGIN:VCALENDAR
VERSION:2.0
PRODID:-//Auction-All - ECPv6.0.2//NONSGML v1.0//EN
CALSCALE:GREGORIAN
METHOD:PUBLISH
X-WR-CALNAME:Auction-All
X-ORIGINAL-URL:https://auction-all.com
X-WR-CALDESC:Events for Auction-All
REFRESH-INTERVAL;VALUE=DURATION:PT1H
X-Robots-Tag:noindex
X-PUBLISHED-TTL:PT1H
BEGIN:VTIMEZONE
TZID:Europe/Helsinki
BEGIN:DAYLIGHT
TZOFFSETFROM:+0200
TZOFFSETTO:+0300
TZNAME:EEST
DTSTART:20260329T010000
END:DAYLIGHT
BEGIN:STANDARD
TZOFFSETFROM:+0300
TZOFFSETTO:+0200
TZNAME:EET
DTSTART:20261025T010000
END:STANDARD
END:VTIMEZONE
BEGIN:VEVENT
DTSTART;TZID=Europe/Helsinki:20260310T120000
DTEND;TZID=Europe/Helsinki:20260310T140000
DTSTAMP:20260421T045407
CREATED:20260213T100235Z
LAST-MODIFIED:20260309T110641Z
UID:20797-1773144000-1773151200@auction-all.com
SUMMARY:ABSA HelpUSell: Online Auction - Spacious 2 Bed 1 Bath Ground Floor Apartment with Private Garden in Sandton\, Johannesburg!
DESCRIPTION:Online Auction Details: \nStarting Bid: R 630 000-00 \nAuction Date: Tuesday\, 10 March 2026 from 12h00 to 14h00 \nViewing: By Appointment \n  \nThis well-positioned ground-floor apartment in the sought-after Shingara Sands complex in Magaliessig offers comfortable living with the added benefit of outdoor space and excellent convenience. \nThe unit comprises two bedrooms fitted with built-in cupboards and a neatly appointed bathroom. \nThe layout includes a dedicated living and dining area\, creating a well-defined yet flowing interior space that is ideal for both everyday living and entertaining. \nThe open-plan kitchen integrates seamlessly with the living areas\, offering functionality and ease of use. \nSliding access leads to a private fenced garden complete with a braai area\, providing the perfect setting for relaxed outdoor gatherings or quiet evenings at home. \nWith approximately 77m² under roof\, this apartment offers a practical and low-maintenance lifestyle within a well-established sectional title scheme. \nThe complex enjoys a prime location close to major routes\, shopping centres\, schools\, and lifestyle amenities\, making it suitable for first-time buyers\, small families\, or investors seeking solid rental appeal. \nA well-balanced property combining indoor comfort with private outdoor space in a secure and popular estate. \n  \nImportant Information: \n– Seller will settle outstanding Rates and Taxes \n– Buyer to provide the required COC’s (Certificates of Compliance) \n– 10% Deposit payable on the fall of the hammer. \n– 30 Days for Guarantees. \n\n\n  \nTo participate in this Online Property Auction\, please click the button below to start the registration process. \nYou’ll first be taken to the Rules of Auction\, which must be read and signed. \nAfter signing\, you’ll be asked to upload the required documents. (ID Copy) \nOnce submitted\, use the PayFast link to pay the R250-00 non-refundable admin fee. \nOnce your documents are submitted and payment is confirmed\, you can create a username and password to log in and place bids. \nRegister to Bid
URL:https://auction-all.com/event/absa-helpusell-online-auction-ground-floor-2-bedroom-apartment-with-private-garden-shingara-sands-magaliessig/
ATTACH;FMTTYPE=image/jpeg:https://auction-all.com/wp-content/uploads/2026/02/799292637.jpg
ORGANIZER;CN="Auction-All":MAILTO:info@auction-all.com
END:VEVENT
BEGIN:VEVENT
DTSTART;TZID=Europe/Helsinki:20260310T120000
DTEND;TZID=Europe/Helsinki:20260310T140000
DTSTAMP:20260421T045407
CREATED:20260218T055415Z
LAST-MODIFIED:20260218T055415Z
UID:20923-1773144000-1773151200@auction-all.com
SUMMARY:ABSA HelpUSell: Online Auction - Generous 4 Bedroom Apartment - Eiffel Towers\, Sunnyside
DESCRIPTION:Online Auction Details: \nStarting Bid: R 420 000-00 \nAuction Date: Tuesday\, 10 March 2026 from 12h00 to 14h00 \nViewing: By Appointment \n  \nPositioned in the well-regarded Eiffel Towers complex on Jorissen Street\, this generous apartment offers excellent space and convenience in the heart of vibrant Sunnyside\, Pretoria — a location that continues to attract those seeking easy access to education\, shopping and daily essentials. \nThe unit comprises 4 bedrooms\, all fitted with built-in cupboards for practical storage (one bedroom not photographed during viewing). \nIt features a neatly appointed full bathroom with bath\, basin and separate toilet\, plus a functional kitchen equipped with ample cupboard space. \nThe open-plan living and dining area provides a comfortable\, adaptable space for relaxation and entertaining\, with good natural light throughout. \nWith approximately 104m² under roof\, this apartment delivers a practical\, low-maintenance lifestyle with generous room sizes ideal for sharing or family use. \nThe complex enjoys a prime location close to the University of Pretoria\, Tshwane University of Technology\, Sunnypark Shopping Centre\, major transport routes\, Sunnyside Medi Clinic\, and a host of restaurants\, supermarkets and amenities — making it especially suitable for first-time buyers\, young professionals\, small families\, or investors seeking strong rental yield in a popular student and commuter area. \nA very attractive opportunity to acquire a spacious\, well-located property at an excellent starting price\, combining indoor comfort with outstanding urban convenience in a secure and sought-after complex. \n  \nImportant Information: \n– Seller will settle outstanding Rates and Taxes \n– Buyer to provide the required COC’s (Certificates of Compliance) \n– 10% Deposit payable on the fall of the hammer. \n– 30 Days for Guarantees. \n  \nTo participate in this Online Property Auction\, please click the button below to start the registration process. \nYou’ll first be taken to the Rules of Auction\, which must be read and signed. \nAfter signing\, you’ll be asked to upload the required documents. (ID Copy) \nOnce submitted\, use the PayFast link to pay the R250-00 non-refundable admin fee. \nOnce your documents are submitted and payment is confirmed\, you can create a username and password to log in and place bids. \nRegister to Bid
URL:https://auction-all.com/event/absa-helpusell-online-auction-generous-4-bedroom-apartment-eiffel-towers-sunnyside/
ATTACH;FMTTYPE=image/jpeg:https://auction-all.com/wp-content/uploads/2026/02/WhatsApp-Image-2026-01-30-at-12.20.23-1.jpeg
END:VEVENT
BEGIN:VEVENT
DTSTART;TZID=Europe/Helsinki:20260312T120000
DTEND;TZID=Europe/Helsinki:20260312T140000
DTSTAMP:20260421T045407
CREATED:20260225T131357Z
LAST-MODIFIED:20260225T131357Z
UID:21115-1773316800-1773324000@auction-all.com
SUMMARY:Deceased Estate: Income Generating Property - 2 Bed Main House with 6 Outside Rooms in Katlehong\, Johannesburg!
DESCRIPTION:Online Auction Details: \nStarting Bid: R 420 000-00 \nAuction Date: Thursday\, 12 March from 12h00 to 14h00 \nViewing: By Appointment \n  \nThis well-located freehold property at 997 Lunga Street\, Twala\, Katlehong is positioned on a 279m² stand and offers excellent potential for both homeowners and investors. \nThe main dwelling comprises two bedrooms\, a comfortable living area\, a functional kitchen\, and a bathroom conveniently connected to one of the bedrooms. \nThe home is fully enclosed with boundary walls and secure gate access\, providing privacy and peace of mind. \nThe yard is paved for low maintenance and practical everyday use. \nA standout feature of this property is the six outside rooms\, offering strong rental income potential. \nThe property also includes an outside toilet and additional storage space\, making it well-suited for multi-tenant accommodation. \nConveniently situated close to schools\, shopping amenities\, and main transport routes\, this property presents a solid investment opportunity in an established residential area. \nAn affordable investment with excellent income-generating possibilities. \n  \nImportant Information: \n– Seller will settle all outstanding Rates and Taxes. \n– 6% Seller’s Commission applies. \n– Seller will provide all required Certificates of Compliance (COCs). \n– 10% Deposit is payable on the fall of the hammer. \n– Offer is subject to a 30-day Acceptance period. \n  \nTo participate in this Online Property Auction\, please click the button below to start the registration process. \nYou’ll first be taken to the Rules of Auction\, which must be read and signed. \nAfter signing\, you’ll be asked to upload the required documents. (ID Copy) \nOnce submitted\, use the PayFast link to pay the R250-00 non-refundable admin fee. \nOnce your documents are submitted and payment is confirmed\, you can create a username and password to log in and place bids. \nRegister to Bid
URL:https://auction-all.com/event/deceased-estate-income-generating-property-2-bed-main-house-with-6-outside-rooms-in-katlehong-johannesburg/
ATTACH;FMTTYPE=image/png:https://auction-all.com/wp-content/uploads/2026/02/14-6.png
END:VEVENT
BEGIN:VEVENT
DTSTART;TZID=Europe/Helsinki:20260312T120000
DTEND;TZID=Europe/Helsinki:20260312T140000
DTSTAMP:20260421T045407
CREATED:20260304T083259Z
LAST-MODIFIED:20260305T062431Z
UID:21240-1773316800-1773324000@auction-all.com
SUMMARY:ABSA HelpUSell: Spacious 2 Bed 2 Bath Apartment in Marshalltown\, Johannesburg!
DESCRIPTION:Online Auction Details: \nStarting Bid: R545 000-00 \nAuction Date: Thursday\, 12 March from 12h00 to 14h00 \nViewing: By Appointment \n  \nDiscover an attractive opportunity for stylish city living in the vibrant Harrison House complex\, right in the heart of Marshalltown\, Johannesburg. \nThis well-presented apartment offers a perfect blend of comfort and convenience in a secure\, modern sectional-title building. \nThe unit comprises 2 spacious bedrooms with 2 en-suite bathrooms\, fitted with built-in cupboards for effortless storage\, and neatly appointed bathrooms featuring baths and vanities. \nThe open-plan living and dining area flows seamlessly into a fully fitted kitchen with wooden cabinets\, granite countertops\, stove\, oven\, extractor\, and space for a washing machine – ideal for everyday ease. \nWith approximately 85m² under roof\, this apartment delivers a practical\, low-maintenance lifestyle that suits busy schedules while maximising space and natural light. \nThe complex enjoys a prime central location close to major banks (Standard Bank\, Absa\, FNB)\, Gandhi Square\, Gautrain station\, Woolworths\, and excellent transport routes\, making it highly suitable for first-time buyers\, young professionals\, or investors seeking strong rental appeal in a sought-after urban precinct. \nA very attractive opportunity to acquire this well-balanced property combining indoor comfort with vibrant city access in a secure and popular estate at an excellent starting price. \n  \nImportant Information: \n– Seller will settle outstanding Rates and Taxes \n– Buyer to provide the required COC’s (Certificates of Compliance) \n– 10% Deposit payable on acceptance of the offer. \n– 30 Days for Guarantees. \n\n\n  \nTo participate in this Online Property Auction\, please click the button below to start the registration process. \nYou’ll first be taken to the Rules of Auction\, which must be read and signed. \nAfter signing\, you’ll be asked to upload the required documents. (ID Copy) \nOnce submitted\, use the PayFast link to pay the R250-00 non-refundable admin fee. \nOnce your documents are submitted and payment is confirmed\, you can create a username and password to log in and place bids. \nRegister to Bid
URL:https://auction-all.com/event/absa-helpusell-spacious-2-bed-1-bath-apartment-in-marshalltown-johannesburg/
ATTACH;FMTTYPE=image/png:https://auction-all.com/wp-content/uploads/2026/03/1-2.png
END:VEVENT
BEGIN:VEVENT
DTSTART;TZID=Europe/Helsinki:20260314T130000
DTEND;TZID=Europe/Helsinki:20260314T130000
DTSTAMP:20260421T045407
CREATED:20260219T125246Z
LAST-MODIFIED:20260306T065755Z
UID:20928-1773493200-1773493200@auction-all.com
SUMMARY:Deceased Estate: On-Site Auction - Exquisite 4 Bed 2 Bath Family Home in Modelpark\, Emalahleni!
DESCRIPTION:On-Site Auction Details: \nStarting Bid: R 1 350 000-00 \nAuction Date: Saturday\, 14 March 2026 at 13h00 \nViewing: Saturday\, 14 March 2026 from 11h00 to 13h00 \n  \nSpacious 4-bedroom family home offering comfortable living on a generous 1\,027m² stand. \nThis free-standing property features four well-sized bedrooms and two bathrooms\, making it ideal for a growing family. \nThe home boasts a spacious kitchen with a separate scullery\, as well as a welcoming lounge and living area designed for easy everyday living and entertaining. \nAdditional features include a double garage and double parking\, providing ample space for vehicles. \nOutside\, you’ll find a relaxing lounge area and a large garden\, perfect for entertaining guests\, children\, or pets. \nConveniently located close to schools\, shopping centres\, and main routes\, this home offers both space and practicality in a well-established residential area. \n  \nImportant Information: \n– Seller will settle outstanding Rates and Taxes \n– 6% Buyer’s Commission plus VAT. \n– Occupation on Acceptance. \n– Buyer to provide the required COC’s (Certificates of Compliance) \n– 10% Deposit payable on the fall of the hammer. \n– 14 Days Acceptance Period. \n– 30 Days for Guarantees. \n\n\n  \nTo participate in this Online Property Auction\, please click the button below to start the registration process. \nYou’ll first be taken to the Rules of Auction\, which must be read and signed. \nAfter signing\, you’ll be asked to upload the required documents. (ID Copy) \nOnce submitted\, use the PayFast link to pay the R250-00 non-refundable admin fee. \nOnce your documents are submitted and payment is confirmed\, you can create a username and password to log in and place bids. \nRegister to Bid
URL:https://auction-all.com/event/deceased-estate-on-site-auction-exquisite-4-bed-2-bath-family-home-in-modelpark-emalahleni/
ATTACH;FMTTYPE=image/jpeg:https://auction-all.com/wp-content/uploads/2026/02/WhatsApp-Image-2026-02-18-at-13.17.29-2.jpeg
ORGANIZER;CN="Auction-All":MAILTO:info@auction-all.com
END:VEVENT
END:VCALENDAR