BEGIN:VCALENDAR
VERSION:2.0
PRODID:-//Auction-All - ECPv6.0.2//NONSGML v1.0//EN
CALSCALE:GREGORIAN
METHOD:PUBLISH
X-WR-CALNAME:Auction-All
X-ORIGINAL-URL:https://auction-all.com
X-WR-CALDESC:Events for Auction-All
REFRESH-INTERVAL;VALUE=DURATION:PT1H
X-Robots-Tag:noindex
X-PUBLISHED-TTL:PT1H
BEGIN:VTIMEZONE
TZID:Europe/Helsinki
BEGIN:DAYLIGHT
TZOFFSETFROM:+0200
TZOFFSETTO:+0300
TZNAME:EEST
DTSTART:20260329T010000
END:DAYLIGHT
BEGIN:STANDARD
TZOFFSETFROM:+0300
TZOFFSETTO:+0200
TZNAME:EET
DTSTART:20261025T010000
END:STANDARD
END:VTIMEZONE
BEGIN:VEVENT
DTSTART;TZID=Europe/Helsinki:20260317T120000
DTEND;TZID=Europe/Helsinki:20260317T140000
DTSTAMP:20260421T061830
CREATED:20260225T073342Z
LAST-MODIFIED:20260225T073342Z
UID:21019-1773748800-1773756000@auction-all.com
SUMMARY:ABSA HelpUSell: Online Auction – 2 Bed 1 Bath Ground Floor Apartment with Private Garden in Montana Tuine\, Pretoria!
DESCRIPTION:Online Auction Details: \nStarting Bid: R 450 000-00 \nAuction Date: Tuesday\, 17 March 2026 from 12h00 to 14h00 \nViewing: By Appointment \n  \nThis well-maintained ground-floor apartment is situated within the secure and established Twee Riviere Lifestyle Estate in Montana Tuine\, Pretoria. \nThe unit comprises two bedrooms fitted with built-in cupboards and a neatly appointed full bathroom with bath and shower. \nThe open-plan kitchen and living area create a practical\, easy-flow layout suited to both everyday living and entertaining. \nThe kitchen is fitted with ample cupboard space\, a built-in oven and hob\, a breakfast counter\, and space for appliances. \nSliding access from the living area leads to a covered patio and a private fenced garden\, offering rare outdoor space and providing an ideal setting for relaxed outdoor use. \nThis apartment offers a low-maintenance lifestyle within a secure\, access-controlled estate. \nResidents benefit from 24-hour security and well-maintained communal areas\, including a swimming pool. \nConveniently located close to major routes\, shopping centres\, schools\, and Netcare Montana Hospital\, this property is well-suited to first-time buyers\, small families\, or investors seeking steady rental demand. \nA practical and well-positioned property within a popular lifestyle estate. \n  \nImportant Information: \n– Seller will settle outstanding Rates and Taxes \n– Buyer to provide the required COC’s (Certificates of Compliance) \n– 10% Deposit payable on the fall of the hammer. \n– 30 Days for Guarantees. \n  \nTo participate in this Online Property Auction\, please click the button below to start the registration process. \nYou’ll first be taken to the Rules of Auction\, which must be read and signed. \nAfter signing\, you’ll be asked to upload the required documents. (ID Copy) \nOnce submitted\, use the PayFast link to pay the R250-00 non-refundable admin fee. \nOnce your documents are submitted and payment is confirmed\, you can create a username and password to log in and place bids. \nRegister to Bid
URL:https://auction-all.com/event/absa-helpusell-online-auction-2-bed-1-bath-ground-floor-apartment-with-private-garden-in-montana-tuine-pretoria/
ATTACH;FMTTYPE=image/png:https://auction-all.com/wp-content/uploads/2026/02/28-2.png
END:VEVENT
BEGIN:VEVENT
DTSTART;TZID=Europe/Helsinki:20260317T120000
DTEND;TZID=Europe/Helsinki:20260317T140000
DTSTAMP:20260421T061830
CREATED:20260303T075121Z
LAST-MODIFIED:20260303T075121Z
UID:21215-1773748800-1773756000@auction-all.com
SUMMARY:ABSA HelpUSell: Online Auction - Spacious 3 Bed 1 Bath house in Tredowne Valley\, Bellair\, Sea View!
DESCRIPTION:Online Auction Details: \nStarting Bid: R 600 000 \nAuction Date: Tuesday\, 17 March 2026 from 12h00 to 14h00 \nViewing: By Appointment \n  \nThis charming three-bedroom\, one-bathroom home\, featuring lovely character details\, lends itself beautifully to renovation and is situated in a safe area. \nIt offers a tandem garage accommodating two vehicles. \nThe complex includes a communal swimming pool\, while the property itself is fully fenced and boasts a spacious garden with an outside braai. \nDon’t miss out on this opportunity to own a beautiful family home. \n  \nImportant Information: \n– Seller will settle outstanding Rates and Taxes \n– Buyer to provide the required COC’s (Certificates of Compliance) \n– 10% Deposit payable on the fall of the hammer \n– 30 Days for Guarantees. \n  \nTo participate in this Online Property Auction\, please click the button below to start the registration process. \nYou’ll first be taken to the Rules of Auction\, which must be read and signed. \nAfter signing\, you’ll be asked to upload the required documents. (ID Copy) \nOnce submitted\, use the PayFast link to pay the R250-00 non-refundable admin fee. \nOnce your documents are submitted and payment is confirmed\, you can create a username and password to log in and place bids. \nRegister to Bid
URL:https://auction-all.com/event/absa-helpusell-online-auction-spacious-3-bed-1-bath-house-in-tredowne-valley-bellair-sea-view-2/
ATTACH;FMTTYPE=image/jpeg:https://auction-all.com/wp-content/uploads/2026/03/1-1.jpg
END:VEVENT
BEGIN:VEVENT
DTSTART;TZID=Europe/Helsinki:20260319T120000
DTEND;TZID=Europe/Helsinki:20260319T140000
DTSTAMP:20260421T061830
CREATED:20260220T095653Z
LAST-MODIFIED:20260220T112251Z
UID:20947-1773921600-1773928800@auction-all.com
SUMMARY:ABSA HelpUSell: Online Auction - Comfortable and Neat 2 Bed 1 Bath Home in Soweto\, Johannesburg!
DESCRIPTION:Online Auction Details: \nStarting Bid: R 420 000-00 \nAuction Date: Thursday\, 19 March from 12h00 to 14h00 \nViewing: By Appointment \n  \nStep into comfortable\, everyday living in the popular SS Protea Glen Estate\, a secure and welcoming sectional title complex in the thriving Protea Glen area of Soweto. \nThe unit comprises two bedrooms\, both fitted with built-in cupboards for practical storage\, and a neatly appointed family bathroom featuring a full bath\, basin\, toilet\, and tiled finishes that create a fresh and functional space. \nThe open-plan living and dining area connects seamlessly to a well-equipped kitchen with ample cupboard space\, modern appliances in place\, and a practical layout ideal for daily meals and relaxed family time. \nWith approximately 44m² under roof\, this apartment offers a practical and low-maintenance lifestyle\, perfect for straightforward comfort in a compact\, easy-to-manage home. \nThe complex enjoys a prime location close to Protea Glen Mall for convenient shopping and daily essentials\, nearby schools including Curro Protea Glen\, Basa Protea Glen Primary\, and Protea Glen Secondary\, as well as major routes and community amenities – making it suitable for first-time buyers\, young professionals\, small families\, or investors seeking solid rental appeal in a growing and vibrant suburb. \nA well-balanced property combining indoor comfort with convenient access to local facilities in a secure and popular estate. A very attractive opportunity to acquire this appealing home at an excellent starting price. \n  \nImportant Information: \n– Seller will settle outstanding Rates and Taxes \n– Buyer to provide the required COC’s (Certificates of Compliance) \n– 10% Deposit payable on the fall of the hammer. \n– 30 Days for Guarantees. \n\n\n\nTo participate in this Online Property Auction\, please click the button below to start the registration process. \nYou’ll first be taken to the Rules of Auction\, which must be read and signed. \nAfter signing\, you’ll be asked to upload the required documents. (ID Copy) \nOnce submitted\, use the PayFast link to pay the R250-00 non-refundable admin fee. \nOnce your documents are submitted and payment is confirmed\, you can create a username and password to log in and place bids. \nRegister to Bid
URL:https://auction-all.com/event/absa-helpusell-online-auction-comfortable-2-bedroom-apartment-ss-protea-glen-estate-protea-glen-soweto/
ATTACH;FMTTYPE=image/png:https://auction-all.com/wp-content/uploads/2026/02/1-8.png
END:VEVENT
BEGIN:VEVENT
DTSTART;TZID=Europe/Helsinki:20260319T120000
DTEND;TZID=Europe/Helsinki:20260319T140000
DTSTAMP:20260421T061830
CREATED:20260312T111753Z
LAST-MODIFIED:20260312T111753Z
UID:21341-1773921600-1773928800@auction-all.com
SUMMARY:ABSA HelpUSell: Prime Retail Opportunity at Rustenburg Square Shopping Centre in Rustenburg\, North-West!
DESCRIPTION:Online Auction Details: \nStarting Bid: R 640 000-00 \nAuction Date: Thursday\, 19 March 2026 from 12h00 to 14h00 \nViewing: By Appointment \n  \nPosition your business in the heart of Rustenburg’s bustling CBD with this versatile commercial unit. \nThis unit offers a spacious retail area perfect for a showroom\, boutique\, fast-food outlet\, office\, or educational facility. \nThe unit includes a functional kitchen/store area\, a private office\, and a bathroom with toilet\, basin\, and shower – ideal for staff or customer convenience. \nThis property comes with 1 covered parking space and 1 open parking bay\, secured behind a remote-operated steel gate\, ensuring both accessibility and safety. \nSituated in a well-developed commercial node\, you’ll benefit from excellent exposure and easy access to surrounding suburbs\, schools\, major routes\, and the R24 and N4 highways. \nThis unit offers investment potential with possible rental income exceeding R10 000-00 per month. \nLevies for the unit are R2 200-00 per month. \nDon’t miss this chance to secure a versatile\, high-traffic commercial property in Rustenburg Square. \n  \nImportant Information: \nSeller will settle outstanding Rates and Taxes \nBuyer to provide the required COC’s (Certificates of Compliance) \n10% Deposit payable on the fall of the hammer. \n30 Days for Guarantees. \n  \nTo participate in this Online Property Auction\, please click the button below to start the registration process. \nYou’ll first be taken to the Rules of Auction\, which must be read and signed. \nAfter signing\, you’ll be asked to upload the required documents. (ID Copy) \nOnce submitted\, use the PayFast link to pay the R250-00 non-refundable admin fee. \nOnce your documents are submitted and payment is confirmed\, you can create a username and password to log in and place bids. \nRegister to Bid
URL:https://auction-all.com/event/absa-helpusell-prime-retail-opportunity-at-rustenburg-square-shopping-centre-in-rustenburg-north-west/
ATTACH;FMTTYPE=image/png:https://auction-all.com/wp-content/uploads/2026/03/1-4.png
END:VEVENT
END:VCALENDAR