BEGIN:VCALENDAR
VERSION:2.0
PRODID:-//Auction-All - ECPv6.0.2//NONSGML v1.0//EN
CALSCALE:GREGORIAN
METHOD:PUBLISH
X-WR-CALNAME:Auction-All
X-ORIGINAL-URL:https://auction-all.com
X-WR-CALDESC:Events for Auction-All
REFRESH-INTERVAL;VALUE=DURATION:PT1H
X-Robots-Tag:noindex
X-PUBLISHED-TTL:PT1H
BEGIN:VTIMEZONE
TZID:Europe/Helsinki
BEGIN:DAYLIGHT
TZOFFSETFROM:+0200
TZOFFSETTO:+0300
TZNAME:EEST
DTSTART:20260329T010000
END:DAYLIGHT
BEGIN:STANDARD
TZOFFSETFROM:+0300
TZOFFSETTO:+0200
TZNAME:EET
DTSTART:20261025T010000
END:STANDARD
END:VTIMEZONE
BEGIN:VEVENT
DTSTART;TZID=Europe/Helsinki:20260331T120000
DTEND;TZID=Europe/Helsinki:20260331T140000
DTSTAMP:20260421T061937
CREATED:20260317T062018Z
LAST-MODIFIED:20260317T062018Z
UID:21493-1774958400-1774965600@auction-all.com
SUMMARY:ABSA HelpUSell: Online Auction - Stylish 2 Bed 1 Bath Apartment in Kempton Park
DESCRIPTION:Online Auction Details: \nStarting Bid: R 665 000-00 \nAuction Date: Tuesday\, 31 March from 12h00 to 14h00 \nViewing: By Appointment \n  \nStep into modern comfort at this beautifully presented apartment located in the convenient Pomona suburb of Kempton Park. \nThis stylish home offers an excellent opportunity for effortless living in a secure\, family-friendly estate with its own children’s playground. \nThe unit comprises 2 bedrooms and 2 bathrooms\, both bedrooms fitted with built-in cupboards for ample storage. \nThe sleek modern kitchen features granite countertops\, wood-finish cabinetry\, and quality appliances\, including oven\, hob\, extractor fan\, and washing machine. \nThe open-plan living and dining area flows seamlessly onto a private balcony\, while the neatly appointed bathrooms offer contemporary finishes — one with a full bath and the other with a shower. \nThis apartment offers a practical and low-maintenance lifestyle ideal for busy professionals or growing families. \nThe complex enjoys a prime location close to Brentwood Mall\, OR Tambo International Airport\, major routes\, schools\, and daily amenities\, making it highly suitable for young professionals\, small families\, or investors seeking strong rental appeal. \nA very attractive opportunity to acquire this well-presented property\, combining contemporary comfort with superb connectivity in a secure and popular complex. \n  \nImportant Information: \n– Seller will settle outstanding Rates and Taxes \n– Buyer to provide the required COC’s (Certificates of Compliance) \n– 10% Deposit payable on the fall of the hammer. \n– 30 Days for Guarantees. \n  \nTo participate in this Online Property Auction\, please click the button below to start the registration process. \nYou’ll first be taken to the Rules of Auction\, which must be read and signed. \nAfter signing\, you’ll be asked to upload the required documents. (ID Copy) \nOnce submitted\, use the PayFast link to pay the R250-00 non-refundable admin fee. \nOnce your documents are submitted and payment is confirmed\, you can create a username and password to log in and place bids. \nRegister to Bid
URL:https://auction-all.com/event/absa-helpusell-online-auction-stylish-2-bed-1-bath-apartment-in-kempton-park/
ATTACH;FMTTYPE=image/png:https://auction-all.com/wp-content/uploads/2026/03/1-11.png
END:VEVENT
END:VCALENDAR