BEGIN:VCALENDAR
VERSION:2.0
PRODID:-//Auction-All - ECPv6.0.2//NONSGML v1.0//EN
CALSCALE:GREGORIAN
METHOD:PUBLISH
X-WR-CALNAME:Auction-All
X-ORIGINAL-URL:https://auction-all.com
X-WR-CALDESC:Events for Auction-All
REFRESH-INTERVAL;VALUE=DURATION:PT1H
X-Robots-Tag:noindex
X-PUBLISHED-TTL:PT1H
BEGIN:VTIMEZONE
TZID:Europe/Helsinki
BEGIN:DAYLIGHT
TZOFFSETFROM:+0200
TZOFFSETTO:+0300
TZNAME:EEST
DTSTART:20260329T010000
END:DAYLIGHT
BEGIN:STANDARD
TZOFFSETFROM:+0300
TZOFFSETTO:+0200
TZNAME:EET
DTSTART:20261025T010000
END:STANDARD
END:VTIMEZONE
BEGIN:VEVENT
DTSTART;TZID=Europe/Helsinki:20260407T120000
DTEND;TZID=Europe/Helsinki:20260407T140000
DTSTAMP:20260421T015809
CREATED:20260317T065627Z
LAST-MODIFIED:20260317T065627Z
UID:21543-1775563200-1775570400@auction-all.com
SUMMARY:ABSA HelpUSell: Online Auction - Spacious 2 Bed 2 Bath Apartment in Boksburg!
DESCRIPTION:Online Auction Details: \nStarting Bid: R 920 000-00 \nAuction Date: Tuesday\, 7 April from 12h00 to 14h00 \nViewing: By Appointment \n  \nDiscover this modern 2-bedroom apartment in the secure Fish Eagle Estates North Village\, offering comfortable living in the sought-after Beyers Park area of Boksburg. \nThe unit comprises two well-sized bedrooms with built-in cupboards\, two neatly appointed bathrooms (main with bathtub\, en-suite with modern shower)\, and an open-plan living and dining area that flows seamlessly to a well-equipped kitchen with granite countertops\, contemporary finishes\, and a covered balcony. \nThis apartment offers a practical and low-maintenance lifestyle ideal for comfortable everyday living. \nThe complex enjoys a prime location close to major shopping centres\, excellent schools\, medical facilities\, easy access to OR Tambo International Airport\, and key routes like the R21\, making it suitable for first-time buyers\, young professionals\, small families\, or investors seeking solid rental appeal. \nA well-balanced property combining indoor comfort with convenient amenities in a secure and popular estate. A very attractive opportunity to acquire this gem at an excellent starting price. \n  \nImportant Information: \n– Seller will settle outstanding Rates and Taxes \n– Buyer to provide the required COC’s (Certificates of Compliance) \n– 10% Deposit payable on the fall of the hammer. \n– 30 Days for Guarantees. \n  \nTo participate in this Online Property Auction\, please click the button below to start the registration process. \nYou’ll first be taken to the Rules of Auction\, which must be read and signed. \nAfter signing\, you’ll be asked to upload the required documents. (ID Copy) \nOnce submitted\, use the PayFast link to pay the R250-00 non-refundable admin fee. \nOnce your documents are submitted and payment is confirmed\, you can create a username and password to log in and place bids. \nRegister to Bid
URL:https://auction-all.com/event/absa-helpusell-online-auction-spacious-2-bed-2-bath-apartment-in-boksburg/
ATTACH;FMTTYPE=image/jpeg:https://auction-all.com/wp-content/uploads/2026/03/grok-image-d15310f8-4b5f-4f6e-961b-dd61327db473.jpg
END:VEVENT
BEGIN:VEVENT
DTSTART;TZID=Europe/Helsinki:20260407T120000
DTEND;TZID=Europe/Helsinki:20260407T140000
DTSTAMP:20260421T015809
CREATED:20260324T071925Z
LAST-MODIFIED:20260324T071925Z
UID:21577-1775563200-1775570400@auction-all.com
SUMMARY:ABSA HelpUSell: Online Auction - Spacious 2 Bedroom Duplex in Turffontein\, Johannesburg!
DESCRIPTION:Online Auction Details: \nStarting Bid: R 470 000-00 \nAuction Date: Tuesday\, 7 April 2026 from 12h00 to 14h00 \nViewing: By Appointment \n  \nThis inviting 2-bedroom duplex in the well-established Bitcon Villa complex offers an excellent opportunity for comfortable living in the sought-after suburb of West Turffontein. \nWith its practical layout and secure setting\, the home presents a balanced lifestyle perfect for everyday enjoyment. \nThe unit comprises 2 bedrooms and 1.5 bathrooms\, fitted with built-in cupboards for ample storage. \nBoth bedrooms are well-sized and complemented by neatly appointed bathrooms that ensure comfort and privacy. \nThe open-plan living/dining/kitchen area flows seamlessly\, creating a bright and functional space ideal for relaxing or entertaining\, while the fitted kitchen cupboards add convenient everyday practicality. \nA single garage provides secure parking and added peace of mind. \nThis duplex offers a practical and low-maintenance lifestyle with everything you need under one roof. \nThe complex enjoys a prime location close to shopping centers\, reputable schools\, medical facilities\, and major transport routes\, making it suitable for first-time buyers\, young professionals\, small families\, or investors seeking solid rental appeal. \nA well-balanced property combining indoor comfort with secure parking in a popular and convenient estate. \nA very attractive opportunity to acquire this home at an excellent starting price. \n  \nImportant Information: \n– Seller will settle outstanding Rates and Taxes \n– Buyer to provide the required COC’s (Certificates of Compliance) \n– 10% Deposit payable on the fall of the hammer. \n– 30 Days for Guarantees. \n  \nTo participate in this Online Property Auction\, please click the button below to start the registration process. \nYou’ll first be taken to the Rules of Auction\, which must be read and signed. \nAfter signing\, you’ll be asked to upload the required documents. (ID Copy) \nOnce submitted\, use the PayFast link to pay the R250-00 non-refundable admin fee. \nOnce your documents are submitted and payment is confirmed\, you can create a username and password to log in and place bids. \nRegister to Bid
URL:https://auction-all.com/event/absa-helpusell-online-auction-spacious-2-bedroom-duplex-in-turffontein-johannesburg/
END:VEVENT
BEGIN:VEVENT
DTSTART;TZID=Europe/Helsinki:20260408T120000
DTEND;TZID=Europe/Helsinki:20260408T140000
DTSTAMP:20260421T015809
CREATED:20260324T073642Z
LAST-MODIFIED:20260324T073835Z
UID:21594-1775649600-1775656800@auction-all.com
SUMMARY:ABSA HelpUSell: Online Auction - Charming 3 Bed 1 Bath Family Home in Lenasia\, Johannesburg!
DESCRIPTION:Online Auction Details: \nStarting Bid: R 410 000-00 \nAuction Date: Wednesday\, 8 April from 12h00 to 14h00 \nViewing: By Appointment \n  \nThe home comprises three bedrooms and one neatly appointed bathroom. \nOpen-plan living and dining areas flow seamlessly onto a covered patio and the enclosed backyard. \nThis property offers a practical and low-maintenance lifestyle with secure fencing and private outdoor space ideal for family living or entertaining. \nThe suburb enjoys a prime location close to supermarkets\, schools and key amenities\, making it suitable for first-time buyers\, young families or investors seeking solid rental appeal. \nA well-balanced property combining indoor comfort with outdoor living in a secure and popular area. A very attractive opportunity to acquire this home at an excellent starting price. \n  \nImportant Information: \n– Seller will settle outstanding Rates and Taxes \n– Buyer to provide the required COC’s (Certificates of Compliance) \n– 10% Deposit payable on the fall of the hammer. \n– 30 Days for Guarantees. \n  \nTo participate in this Online Property Auction\, please click the button below to start the registration process. \nYou’ll first be taken to the Rules of Auction\, which must be read and signed. \nAfter signing\, you’ll be asked to upload the required documents. (ID Copy) \nOnce submitted\, use the PayFast link to pay the R250-00 non-refundable admin fee. \nOnce your documents are submitted and payment is confirmed\, you can create a username and password to log in and place bids. \nRegister to Bid
URL:https://auction-all.com/event/absa-helpusell-online-auction-charming-3-bed-1-bath-family-home-in-lenasia-johannesburg/
ATTACH;FMTTYPE=image/png:https://auction-all.com/wp-content/uploads/2026/03/1-15.png
END:VEVENT
BEGIN:VEVENT
DTSTART;TZID=Europe/Helsinki:20260409T120000
DTEND;TZID=Europe/Helsinki:20260409T140000
DTSTAMP:20260421T015809
CREATED:20260325T110738Z
LAST-MODIFIED:20260325T110738Z
UID:21698-1775736000-1775743200@auction-all.com
SUMMARY:ABSA HelpUSell: Online Auction - Spacious 3 Bed 1 Bath Family Home with Private Garden in Germiston\, Johannesburg!
DESCRIPTION:Online Auction Details: \nStarting Bid: R 960 000-00 \nAuction Date: Thursday\, 9 April 2026 from 12h00 to 14h00 \nViewing: By Appointment \n  \nThis well-positioned free-standing home in the established suburb of Elsburg offers comfortable and practical living\, presenting an attractive opportunity for families and first-time buyers seeking excellent value in a convenient location. \nThe home comprises 3 well-sized bedrooms\, a neatly appointed bathroom\, and a functional kitchen that flows seamlessly into an open-plan living room\, creating a welcoming space for everyday living and entertaining. \nIt further features a single garage for secure parking and added convenience. \nThis home offers a practical and low-maintenance lifestyle with ample outdoor space on its stand\, ideal for relaxed family living or potential extensions. \nThe property enjoys a prime location close to schools\, shopping centres\, medical facilities\, and major transport routes\, making it suitable for first-time buyers\, small families\, or investors seeking solid rental appeal. \nA very attractive opportunity to acquire this charming free-standing home at an excellent starting price in a popular and well-connected area. \n  \nImportant Information: \n– Seller will settle outstanding Rates and Taxes \n– Buyer to provide the required COC’s (Certificates of Compliance) \n– 10% Deposit payable on the fall of the hammer. \n– 30 Days for Guarantees. \n  \nTo participate in this Online Property Auction\, please click the button below to start the registration process. \nYou’ll first be taken to the Rules of Auction\, which must be read and signed. \nAfter signing\, you’ll be asked to upload the required documents. (ID Copy) \nOnce submitted\, use the PayFast link to pay the R250-00 non-refundable admin fee. \nOnce your documents are submitted and payment is confirmed\, you can create a username and password to log in and place bids. \nRegister to Bid
URL:https://auction-all.com/event/absa-helpusell-online-auction-spacious-3-bed-1-bath-family-home-with-private-garden-in-germiston-johannesburg/
ATTACH;FMTTYPE=image/png:https://auction-all.com/wp-content/uploads/2026/03/1-18.png
END:VEVENT
END:VCALENDAR