BEGIN:VCALENDAR
VERSION:2.0
PRODID:-//Auction-All - ECPv6.0.2//NONSGML v1.0//EN
CALSCALE:GREGORIAN
METHOD:PUBLISH
X-WR-CALNAME:Auction-All
X-ORIGINAL-URL:https://auction-all.com
X-WR-CALDESC:Events for Auction-All
REFRESH-INTERVAL;VALUE=DURATION:PT1H
X-Robots-Tag:noindex
X-PUBLISHED-TTL:PT1H
BEGIN:VTIMEZONE
TZID:Europe/Helsinki
BEGIN:DAYLIGHT
TZOFFSETFROM:+0200
TZOFFSETTO:+0300
TZNAME:EEST
DTSTART:20220327T010000
END:DAYLIGHT
BEGIN:STANDARD
TZOFFSETFROM:+0300
TZOFFSETTO:+0200
TZNAME:EET
DTSTART:20221030T010000
END:STANDARD
END:VTIMEZONE
BEGIN:VEVENT
DTSTART;TZID=Europe/Helsinki:20220824T110000
DTEND;TZID=Europe/Helsinki:20220824T130000
DTSTAMP:20260421T071456
CREATED:20220801T112855Z
LAST-MODIFIED:20220815T073129Z
UID:7959-1661338800-1661346000@auction-all.com
SUMMARY:Large Pre-School in Midrand ON-SITE AUCTION
DESCRIPTION:15 + 17 Fred Verseput Avenue\, Halfway Gardens Ext 4\,\nGauteng \nSTARTING BID: R2 900 000 \nAUCTION DATE: 24 August @ 11:00 (Bidding Starts at 11:00\, no late bids will be accepted) \nLOCATION: 17 Fred Verseput Avenue\, Halfway Gardens Ext 4\, Gauteng \nVIEWING DATES: \n10 August 12:00 – 13:00 \n17 August 12:00 – 13:00 \nREGISTRATION FEE: R5000 refundable deposit (Please bring a certified copy of ID and proof of residents) \n  \nCONTACT: \nTiaan Kotze \n0783358134 \ntiaan@auction-all.com \n  \nLarge Montessori Pre-School For sale in Midrand\, Gauteng. \n  \nMunicipal Valuation: \nR4 300 000 \n  \nStarting Bid: \nR2 900 000 \n  \nPlease see the website link under the “details section” below to view Property 24 Listing
URL:https://auction-all.com/event/large-pre-school-in-midrand-online-auction/
LOCATION:17 Fred Verseput Avenue\, Halfway Gardens Ext 4\, Gauteng\, Auction-All Website\, South Africa
ATTACH;FMTTYPE=image/jpeg:https://auction-all.com/wp-content/uploads/2022/08/WhatsApp-Image-2022-07-26-at-8.47.23-PM-21.jpeg
ORGANIZER;CN="Auction-All":MAILTO:info@auction-all.com
END:VEVENT
END:VCALENDAR